BEGIN:VCALENDAR
VERSION:2.0
PRODID:-//Club Kobe TowaIto|クラブ神戸トワイト - ECPv6.15.20//NONSGML v1.0//EN
CALSCALE:GREGORIAN
METHOD:PUBLISH
X-WR-CALNAME:Club Kobe TowaIto|クラブ神戸トワイト
X-ORIGINAL-URL:https://towaito.jp
X-WR-CALDESC:Club Kobe TowaIto|クラブ神戸トワイト のイベント
REFRESH-INTERVAL;VALUE=DURATION:PT1H
X-Robots-Tag:noindex
X-PUBLISHED-TTL:PT1H
BEGIN:VTIMEZONE
TZID:Asia/Tokyo
BEGIN:STANDARD
TZOFFSETFROM:+0900
TZOFFSETTO:+0900
TZNAME:JST
DTSTART:20240101T000000
END:STANDARD
END:VTIMEZONE
BEGIN:VEVENT
DTSTART;TZID=Asia/Tokyo:20251101T140000
DTEND;TZID=Asia/Tokyo:20251101T200000
DTSTAMP:20260423T150855
CREATED:20250927T015554Z
LAST-MODIFIED:20251103T052818Z
UID:165-1762005600-1762027200@towaito.jp
SUMMARY:BACK TO THE DISCO AUTUMN EDITION in Wメリケン波止場
DESCRIPTION:沢山のご来場ありがとうございました！\n\n\n\n\n\n\n\n\n\n\n\n昭和へタイムスリップ！！DISCOでFEVER vol.2会場 Wメリケン波止場前売券　3\,000yen LINE友だち申請で前売券をゲット! 先着200名様当日券　3\,500yenDance Show Case B-CLAPSMain MC ターザン山下TowaIto Sound Crew Jun / K / Shogo / Bomber※お客様専用駐車場はございません。近隣パーキングをご利用下さい。※お荷物のお預かりはいたしておりませんので、ご了承ください。 \n\n\n\n \n\n共催；\n協力：\n出店：\n\n\n\n\n\n\n\n\nShow Case B-CLAPS \n\n\n\n\n\n\n\n\n\n\n\n会場アクセスWメリケン波止場　神戸市中央区波止場町6-16　℡090-9864-2797
URL:https://towaito.jp/event/back-to-the-disco-autumn-edition/
ATTACH;FMTTYPE=image/jpeg:https://towaito.jp/wp-content/uploads/2025/09/backtothedisco.jpg
END:VEVENT
BEGIN:VEVENT
DTSTART;TZID=Asia/Tokyo:20251107T190000
DTEND;TZID=Asia/Tokyo:20251107T235900
DTSTAMP:20260423T150855
CREATED:20251030T191349Z
LAST-MODIFIED:20251030T191350Z
UID:312-1762542000-1762559940@towaito.jp
SUMMARY:TowaIto FUNKY FRIDAY KOHSUKE
DESCRIPTION:
URL:https://towaito.jp/event/towaito-funky-friday-kohsuke1107/
ATTACH;FMTTYPE=image/jpeg:https://towaito.jp/wp-content/uploads/2025/10/20251107-scaled.jpg
END:VEVENT
BEGIN:VEVENT
DTSTART;TZID=Asia/Tokyo:20251108T190000
DTEND;TZID=Asia/Tokyo:20251108T235900
DTSTAMP:20260423T150855
CREATED:20251030T191922Z
LAST-MODIFIED:20251030T193127Z
UID:315-1762628400-1762646340@towaito.jp
SUMMARY:SATURDAY NIGHT WAV/ACTION&KOHSUKE&BOMBER
DESCRIPTION:
URL:https://towaito.jp/event/saturday-night-wav-actionkohsukebomber20251108/
ATTACH;FMTTYPE=image/jpeg:https://towaito.jp/wp-content/uploads/2025/10/20251108-scaled.jpg
END:VEVENT
BEGIN:VEVENT
DTSTART;TZID=Asia/Tokyo:20251109T160000
DTEND;TZID=Asia/Tokyo:20251109T210000
DTSTAMP:20260423T150855
CREATED:20251030T192313Z
LAST-MODIFIED:20251030T192314Z
UID:318-1762704000-1762722000@towaito.jp
SUMMARY:HYPER SUNDAY あっちゃん&KAZZ
DESCRIPTION:
URL:https://towaito.jp/event/hyper-sunday-%e3%81%82%e3%81%a3%e3%81%a1%e3%82%83%e3%82%93kazz20251109/
ATTACH;FMTTYPE=image/jpeg:https://towaito.jp/wp-content/uploads/2025/10/1109-scaled.jpg
END:VEVENT
BEGIN:VEVENT
DTSTART;TZID=Asia/Tokyo:20251114T190000
DTEND;TZID=Asia/Tokyo:20251114T235900
DTSTAMP:20260423T150855
CREATED:20251031T070020Z
LAST-MODIFIED:20251202T033846Z
UID:328-1763146800-1763164740@towaito.jp
SUMMARY:TowaIto FUNKY FRIDAY KOHSUKE
DESCRIPTION:
URL:https://towaito.jp/event/towaito-funky-friday-kohsuke1114/
ATTACH;FMTTYPE=image/jpeg:https://towaito.jp/wp-content/uploads/2025/10/20251114-scaled.jpg
END:VEVENT
BEGIN:VEVENT
DTSTART;TZID=Asia/Tokyo:20251115T190000
DTEND;TZID=Asia/Tokyo:20251115T235900
DTSTAMP:20260423T150855
CREATED:20251031T070621Z
LAST-MODIFIED:20251202T033839Z
UID:332-1763233200-1763251140@towaito.jp
SUMMARY:SATURDAY NIGHT WAV/ACTION&KOHSUKE
DESCRIPTION:
URL:https://towaito.jp/event/saturday-night-wav-actionkohsuke1115/
ATTACH;FMTTYPE=image/jpeg:https://towaito.jp/wp-content/uploads/2025/10/20251115-scaled.jpg
END:VEVENT
BEGIN:VEVENT
DTSTART;TZID=Asia/Tokyo:20251116T160000
DTEND;TZID=Asia/Tokyo:20251116T210000
DTSTAMP:20260423T150855
CREATED:20251031T071338Z
LAST-MODIFIED:20251202T033832Z
UID:335-1763308800-1763326800@towaito.jp
SUMMARY:HYPER SUNDAY 若年寄& 初叉輝＆Nino
DESCRIPTION:
URL:https://towaito.jp/event/hyper-sunday-%e8%8b%a5%e5%b9%b4%e5%af%84-%e5%88%9d%e5%8f%88%e8%bc%9dnino1116/
ATTACH;FMTTYPE=image/jpeg:https://towaito.jp/wp-content/uploads/2025/10/1116_2-scaled.jpg
END:VEVENT
BEGIN:VEVENT
DTSTART;TZID=Asia/Tokyo:20251121T190000
DTEND;TZID=Asia/Tokyo:20251121T235900
DTSTAMP:20260423T150855
CREATED:20251103T050709Z
LAST-MODIFIED:20251202T033825Z
UID:342-1763751600-1763769540@towaito.jp
SUMMARY:TowaIto FUNKY FRIDAY WAV/ACTION
DESCRIPTION:
URL:https://towaito.jp/event/towaito-funky-friday-kohsuke20251121/
ATTACH;FMTTYPE=image/jpeg:https://towaito.jp/wp-content/uploads/2025/09/friday.jpg
END:VEVENT
BEGIN:VEVENT
DTSTART;TZID=Asia/Tokyo:20251122T190000
DTEND;TZID=Asia/Tokyo:20251122T235900
DTSTAMP:20260423T150855
CREATED:20251103T051353Z
LAST-MODIFIED:20251202T033804Z
UID:346-1763838000-1763855940@towaito.jp
SUMMARY:Ain't Nothin' Bat A Party Marbow & Nishida
DESCRIPTION:
URL:https://towaito.jp/event/aint-nothin-bat-a-party-marbow-nishida20251122/
ATTACH;FMTTYPE=image/jpeg:https://towaito.jp/wp-content/uploads/2025/11/1122jpg-scaled.jpg
END:VEVENT
BEGIN:VEVENT
DTSTART;TZID=Asia/Tokyo:20251123T160000
DTEND;TZID=Asia/Tokyo:20251123T210000
DTSTAMP:20260423T150855
CREATED:20251103T051839Z
LAST-MODIFIED:20251202T033751Z
UID:349-1763913600-1763931600@towaito.jp
SUMMARY:HYPER SUNDAY Nino & Akihito
DESCRIPTION:
URL:https://towaito.jp/event/hyper-sunday-nino-akihito20251123/
ATTACH;FMTTYPE=image/jpeg:https://towaito.jp/wp-content/uploads/2025/11/1123-scaled.jpg
END:VEVENT
BEGIN:VEVENT
DTSTART;TZID=Asia/Tokyo:20251128T190000
DTEND;TZID=Asia/Tokyo:20251128T235900
DTSTAMP:20260423T150855
CREATED:20251107T021614Z
LAST-MODIFIED:20251202T033716Z
UID:438-1764356400-1764374340@towaito.jp
SUMMARY:TowaIto FUNKY FRIDAY WAV/ACTION
DESCRIPTION:
URL:https://towaito.jp/event/funky-friday-kohsuke_20251128/
ATTACH;FMTTYPE=image/jpeg:https://towaito.jp/wp-content/uploads/2025/11/20251128-scaled.jpg
END:VEVENT
BEGIN:VEVENT
DTSTART;TZID=Asia/Tokyo:20251129T190000
DTEND;TZID=Asia/Tokyo:20251129T235900
DTSTAMP:20260423T150855
CREATED:20251107T022054Z
LAST-MODIFIED:20251202T033706Z
UID:442-1764442800-1764460740@towaito.jp
SUMMARY:TowaIto SATURDAY NIGHT ANTONIO & NISHIDA
DESCRIPTION:
URL:https://towaito.jp/event/towaito-saturday-night-antonio-nishida1129/
ATTACH;FMTTYPE=image/jpeg:https://towaito.jp/wp-content/uploads/2025/11/20251129-scaled.jpg
END:VEVENT
END:VCALENDAR