BEGIN:VCALENDAR
VERSION:2.0
PRODID:-//Club Kobe TowaIto|クラブ神戸トワイト - ECPv6.15.20//NONSGML v1.0//EN
CALSCALE:GREGORIAN
METHOD:PUBLISH
X-WR-CALNAME:Club Kobe TowaIto|クラブ神戸トワイト
X-ORIGINAL-URL:https://towaito.jp
X-WR-CALDESC:Club Kobe TowaIto|クラブ神戸トワイト のイベント
REFRESH-INTERVAL;VALUE=DURATION:PT1H
X-Robots-Tag:noindex
X-PUBLISHED-TTL:PT1H
BEGIN:VTIMEZONE
TZID:Asia/Tokyo
BEGIN:STANDARD
TZOFFSETFROM:+0900
TZOFFSETTO:+0900
TZNAME:JST
DTSTART:20250101T000000
END:STANDARD
END:VTIMEZONE
BEGIN:VEVENT
DTSTART;TZID=Asia/Tokyo:20260109T190000
DTEND;TZID=Asia/Tokyo:20260109T235900
DTSTAMP:20260423T101255
CREATED:20251217T012301Z
LAST-MODIFIED:20251230T081259Z
UID:836-1767985200-1768003140@towaito.jp
SUMMARY:Club Kobe TowaIto 2026NewYearParty
DESCRIPTION:✨🥂🎉 NEW YEAR PARTY 🎉🥂✨ \n📅 1月9日（金）⏰ 19:00 START \n🎍 新年最初の夜は、ゆったり集まって🥂 新年会します✨ささやかではありますが、新年の乾杯に合わせて🥗 オードブルをご用意しています😘 \n━━━━━━━━━━━━━━🔔✨ ご連絡のお願い ✨🔔🍽 オードブル準備の都合上、📝 ご参加予定の方は【1月7日（水）13時まで】に📩 公式LINEまたはDMへご連絡ください。━━━━━━━━━━━━━━ \n🎶 いつもの音楽と空間で、🎉 2026年のスタートを一緒に。 \n🥂✨ 皆さまと乾杯できるのを💗 楽しみにしています。
URL:https://towaito.jp/event/bar%e5%96%b6%e6%a5%ad/
ATTACH;FMTTYPE=image/jpeg:https://towaito.jp/wp-content/uploads/2025/12/0109.jpg
END:VEVENT
BEGIN:VEVENT
DTSTART;TZID=Asia/Tokyo:20260110T190000
DTEND;TZID=Asia/Tokyo:20260110T235900
DTSTAMP:20260423T101255
CREATED:20251216T061033Z
LAST-MODIFIED:20251216T081157Z
UID:742-1768071600-1768089540@towaito.jp
SUMMARY:SATURDAY NIGHT AKIHITO & BOMBER
DESCRIPTION:
URL:https://towaito.jp/event/saturday-night-akihito-bomber0110/
ATTACH;FMTTYPE=image/jpeg:https://towaito.jp/wp-content/uploads/2025/12/20260110.jpg
END:VEVENT
BEGIN:VEVENT
DTSTART;TZID=Asia/Tokyo:20260111T160000
DTEND;TZID=Asia/Tokyo:20260111T210000
DTSTAMP:20260423T101255
CREATED:20251216T061520Z
LAST-MODIFIED:20251216T081209Z
UID:745-1768147200-1768165200@towaito.jp
SUMMARY:HYPER SUNDAY あっちゃん & KAZZ
DESCRIPTION:
URL:https://towaito.jp/event/hyper-sunday-%e3%81%82%e3%81%a3%e3%81%a1%e3%82%83%e3%82%93-kazz0111/
ATTACH;FMTTYPE=image/jpeg:https://towaito.jp/wp-content/uploads/2025/12/0111.jpg
END:VEVENT
BEGIN:VEVENT
DTSTART;TZID=Asia/Tokyo:20260116T190000
DTEND;TZID=Asia/Tokyo:20260116T235900
DTSTAMP:20260423T101255
CREATED:20251216T061910Z
LAST-MODIFIED:20251216T081522Z
UID:748-1768590000-1768607940@towaito.jp
SUMMARY:FUNKY FRIDAY WAV/ACTION
DESCRIPTION:
URL:https://towaito.jp/event/funky-friday-wav-action0116/
ATTACH;FMTTYPE=image/jpeg:https://towaito.jp/wp-content/uploads/2025/12/0116.jpg
END:VEVENT
BEGIN:VEVENT
DTSTART;TZID=Asia/Tokyo:20260117T190000
DTEND;TZID=Asia/Tokyo:20260117T235900
DTSTAMP:20260423T101255
CREATED:20251216T062411Z
LAST-MODIFIED:20251216T081432Z
UID:751-1768676400-1768694340@towaito.jp
SUMMARY:SATURDAY NIGHT JUN & DAIJI
DESCRIPTION:
URL:https://towaito.jp/event/saturday-night-jun-daiji1017/
ATTACH;FMTTYPE=image/jpeg:https://towaito.jp/wp-content/uploads/2025/12/20260117.jpg
END:VEVENT
BEGIN:VEVENT
DTSTART;TZID=Asia/Tokyo:20260118T160000
DTEND;TZID=Asia/Tokyo:20260118T210000
DTSTAMP:20260423T101255
CREATED:20251216T062810Z
LAST-MODIFIED:20251223T191001Z
UID:754-1768752000-1768770000@towaito.jp
SUMMARY:HYPER SUNDAY かんた ＆ 若年寄
DESCRIPTION:
URL:https://towaito.jp/event/hyper-sunday-nino-%e8%8b%a5%e5%b9%b4%e5%af%84-%e5%88%9d%e5%8f%89%e8%bc%9d0118/
ATTACH;FMTTYPE=image/jpeg:https://towaito.jp/wp-content/uploads/2025/12/0118_3.jpg
END:VEVENT
BEGIN:VEVENT
DTSTART;TZID=Asia/Tokyo:20260123T190000
DTEND;TZID=Asia/Tokyo:20260123T235900
DTSTAMP:20260423T101255
CREATED:20251216T081845Z
LAST-MODIFIED:20251216T083153Z
UID:757-1769194800-1769212740@towaito.jp
SUMMARY:FUNKY FRIDAY WAV/ACTION
DESCRIPTION:
URL:https://towaito.jp/event/funky-friday-wav-action0124/
ATTACH;FMTTYPE=image/jpeg:https://towaito.jp/wp-content/uploads/2025/12/0123.jpg
END:VEVENT
BEGIN:VEVENT
DTSTART;TZID=Asia/Tokyo:20260124T190000
DTEND;TZID=Asia/Tokyo:20260124T235900
DTSTAMP:20260423T101255
CREATED:20251216T082246Z
LAST-MODIFIED:20251220T034758Z
UID:760-1769281200-1769299140@towaito.jp
SUMMARY:AIN'T NOTHIN BAT A PARTY MARBOW & NISHIDA
DESCRIPTION:
URL:https://towaito.jp/event/aint-nothin-bat-a-party-marbow-nishida0124/
ATTACH;FMTTYPE=image/jpeg:https://towaito.jp/wp-content/uploads/2025/12/20260124.jpg
END:VEVENT
BEGIN:VEVENT
DTSTART;TZID=Asia/Tokyo:20260125T160000
DTEND;TZID=Asia/Tokyo:20260125T210000
DTSTAMP:20260423T101255
CREATED:20251216T082548Z
LAST-MODIFIED:20260106T125412Z
UID:763-1769356800-1769374800@towaito.jp
SUMMARY:HYPER SUNDAY AKIHITO & KAZZ
DESCRIPTION:
URL:https://towaito.jp/event/hyper-sunday-nino-akihito0125/
ATTACH;FMTTYPE=image/jpeg:https://towaito.jp/wp-content/uploads/2025/12/0125_2.jpg
END:VEVENT
BEGIN:VEVENT
DTSTART;TZID=Asia/Tokyo:20260130T190000
DTEND;TZID=Asia/Tokyo:20260130T235900
DTSTAMP:20260423T101255
CREATED:20251216T082828Z
LAST-MODIFIED:20251216T083125Z
UID:766-1769799600-1769817540@towaito.jp
SUMMARY:FUNKY FRIDAY WAV/ACTION
DESCRIPTION:
URL:https://towaito.jp/event/funky-friday-wav-action0130/
ATTACH;FMTTYPE=image/jpeg:https://towaito.jp/wp-content/uploads/2025/12/0130.jpg
END:VEVENT
BEGIN:VEVENT
DTSTART;TZID=Asia/Tokyo:20260131T190000
DTEND;TZID=Asia/Tokyo:20260131T235900
DTSTAMP:20260423T101255
CREATED:20251216T083059Z
LAST-MODIFIED:20251216T154410Z
UID:769-1769886000-1769903940@towaito.jp
SUMMARY:SATURDAY NIGHT DAIJI & BOMBER
DESCRIPTION:
URL:https://towaito.jp/event/saturday-night-daiji-bomber0131/
ATTACH;FMTTYPE=image/jpeg:https://towaito.jp/wp-content/uploads/2025/12/20260131.jpg
END:VEVENT
END:VCALENDAR